BEGIN:VCALENDAR
VERSION:2.0
PRODID:Heritage Auctions - HA.com
BEGIN:VEVENT
SUMMARY:Reminder: 2026 July 13 Early Copper & Colonial US Coins Showcase Au
 ction #60552
DESCRIPTION:This is a reminder that Heritage's 2026 July 13 Early Copper & 
 Colonial US Coins Showcase Auction #60552 held in Dallas\, TX\, will be av
 ailable for bidding on or near June 12\, 2026.\nThe Consignment Deadline f
 or this auction is Friday\, May 22\, 2026. Contact us (http://coins.HA.com
 /c/acquisitions.zx?target=consign&type=addtocalendar022709) if you are int
 erested in information.\n\nPlease use the following link if you would like
  to browse this auction:\nhttp://coins.HA.com/c/auction-home.zx?saleNo=605
 52&type=addtocalendar022709\n\n\nNote: Auction dates are subject to change
  without notice\, so please check back closer to the auction date for conf
 irmation.
UID:cb1544d5e57749121bbe2c887d211de8@ha.com
DTSTAMP:20260422T070226
DTSTART;VALUE=DATE:20260713
DTEND;VALUE=DATE:20260714
TRANSP:TRANSPARENT
BEGIN:VALARM
TRIGGER:-P2D
DESCRIPTION:Reminder: 2026 July 13 Early Copper & Colonial US Coins Showcas
 e Auction #60552 begins in 2 days
ACTION:DISPLAY
END:VALARM
END:VEVENT
END:VCALENDAR