BEGIN:VCALENDAR
VERSION:2.0
PRODID:Heritage Auctions - HA.com
BEGIN:VEVENT
SUMMARY:Reminder: 2026 September 22 U.S. Coins in Early Holders Showcase Au
 ction #60568
DESCRIPTION:This is a reminder that Heritage's 2026 September 22 U.S. Coins
  in Early Holders Showcase Auction #60568 held in Dallas\, TX\, will be av
 ailable for bidding on or near August 21\, 2026.\nThe Consignment Deadline
  for this auction is Friday\, July 31\, 2026. Contact us (http://coins.HA.
 com/c/acquisitions.zx?target=consign&type=addtocalendar022709) if you are 
 interested in information.\n\nPlease use the following link if you would l
 ike to browse this auction:\nhttp://coins.HA.com/c/auction-home.zx?saleNo=
 60568&type=addtocalendar022709\n\n\nNote: Auction dates are subject to cha
 nge without notice\, so please check back closer to the auction date for c
 onfirmation.
UID:ebb22ac5fbf912fc66847748ffc73fc9@ha.com
DTSTAMP:20260424T072859
DTSTART;VALUE=DATE:20260922
DTEND;VALUE=DATE:20260923
TRANSP:TRANSPARENT
BEGIN:VALARM
TRIGGER:-P2D
DESCRIPTION:Reminder: 2026 September 22 U.S. Coins in Early Holders Showcas
 e Auction #60568 begins in 2 days
ACTION:DISPLAY
END:VALARM
END:VEVENT
END:VCALENDAR